BEGIN:VCALENDAR
VERSION:2.0
PRODID:-//YachtWyse//Boat Shows//EN
CALSCALE:GREGORIAN
METHOD:PUBLISH
X-WR-CALNAME:Abu Dhabi International Boat Show
BEGIN:VEVENT
DTSTART:20261119T000000Z
DTEND:20261122T000000Z
SUMMARY:Abu Dhabi International Boat Show
LOCATION:Abu Dhabi\, UAE
DESCRIPTION:www.adibs.ae THE MARINE DESTINATION FOR THE MIDDLE EAST! Abu Dh
 abi International Boat Show will take place from 19-22 November 2026 on th
 e Marina Hall\, ADNEC Centre Abu Dhabi. The Show serves as a...
URL:https://yachtwyse.com/explore/boat-shows/uae/abu-dhabi/abu-dhabi-intern
 ational-boat-show-2026
UID:boatshow-abu-dhabi-international-boat-show-2026@yachtwyse.com
END:VEVENT
END:VCALENDAR