BEGIN:VCALENDAR
VERSION:2.0
PRODID:-//YachtWyse//Boat Shows//EN
CALSCALE:GREGORIAN
METHOD:PUBLISH
X-WR-CALNAME:Allt at Sea In Gustavberg
BEGIN:VEVENT
DTSTART:20260828T000000Z
DTEND:20260830T000000Z
SUMMARY:Allt at Sea In Gustavberg
LOCATION:Kattholmen\, Odelbergs v&#228\;g 4\, 134 40 Gustavberg\, Stockholm
 \, Sweden\, Stockholm\, Sweden
URL:https://yachtwyse.com/explore/boat-shows/sweden/stockholm/allt-at-sea-i
 n-gustavberg-2026
UID:boatshow-allt-at-sea-in-gustavberg-2026@yachtwyse.com
END:VEVENT
END:VCALENDAR