BEGIN:VCALENDAR
VERSION:2.0
PRODID:-//YachtWyse//Boat Shows//EN
CALSCALE:GREGORIAN
METHOD:PUBLISH
X-WR-CALNAME:Annapolis Powerboat Show
BEGIN:VEVENT
DTSTART:20261008T000000Z
DTEND:20261011T000000Z
SUMMARY:Annapolis Powerboat Show
LOCATION:Annapolis City Dock\, Doct St\, Annapolis\, Maryland 21401\, USA\,
  Maryland 21401\, USA
URL:https://yachtwyse.com/explore/boat-shows/usa/maryland-21401/annapolis-p
 owerboat-show-2026
UID:boatshow-annapolis-powerboat-show-2026@yachtwyse.com
END:VEVENT
END:VCALENDAR