BEGIN:VCALENDAR
VERSION:2.0
PRODID:-//YachtWyse//Boat Shows//EN
CALSCALE:GREGORIAN
METHOD:PUBLISH
X-WR-CALNAME:Annapolis Sailboat Show
BEGIN:VEVENT
DTSTART:20261009T000000Z
DTEND:20261012T000000Z
SUMMARY:Annapolis Sailboat Show
LOCATION:Annapolis City Dock & Harbor\, Annapolis\, Maryland\, USA\, Maryla
 nd\, USA
URL:https://yachtwyse.com/explore/boat-shows/usa/maryland/annapolis-sailboa
 t-show-2026
UID:boatshow-annapolis-sailboat-show-2026@yachtwyse.com
END:VEVENT
END:VCALENDAR