BEGIN:VCALENDAR
VERSION:2.0
PRODID:-//YachtWyse//Boat Shows//EN
CALSCALE:GREGORIAN
METHOD:PUBLISH
X-WR-CALNAME:Annapolis Spring Sailboat Show
BEGIN:VEVENT
DTSTART:20260424T000000Z
DTEND:20260426T000000Z
SUMMARY:Annapolis Spring Sailboat Show
LOCATION:Annapolis City Dock\, 1 Dock Street\, Annapolis\, Maryland 21401\,
  USA\, Maryland 21401\, USA
URL:https://yachtwyse.com/explore/boat-shows/usa/maryland-21401/annapolis-s
 pring-sailboat-show-2026
UID:boatshow-annapolis-spring-sailboat-show-2026@yachtwyse.com
END:VEVENT
END:VCALENDAR