BEGIN:VCALENDAR
VERSION:2.0
PRODID:-//YachtWyse//Boat Shows//EN
CALSCALE:GREGORIAN
METHOD:PUBLISH
X-WR-CALNAME:Annapolis US Powerboat Show
BEGIN:VEVENT
DTSTART:20261002T000000Z
DTEND:20261005T000000Z
SUMMARY:Annapolis US Powerboat Show
LOCATION:Annapolis City Dock\, Doct St\, Annapolis\, Maryland 21401\, USA\,
  Maryland 21401\, USA
URL:https://yachtwyse.com/explore/boat-shows/usa/maryland-21401/annapolis-u
 s-powerboat-show-2026
UID:boatshow-annapolis-us-powerboat-show-2026@yachtwyse.com
END:VEVENT
END:VCALENDAR