BEGIN:VCALENDAR
VERSION:2.0
PRODID:-//YachtWyse//Boat Shows//EN
CALSCALE:GREGORIAN
METHOD:PUBLISH
X-WR-CALNAME:Atlantic City In Water Boat Show
BEGIN:VEVENT
DTSTART:20260910T000000Z
DTEND:20260913T000000Z
SUMMARY:Atlantic City In Water Boat Show
LOCATION:Golden Nugget Hotel and Casino\, 600 Huron Ave\, Atlantic City\, N
 J 08401\, Atlantic City\, NJ 08401
URL:https://yachtwyse.com/explore/boat-shows/nj-08401/atlantic-city/atlanti
 c-city-in-water-boat-show-2026
UID:boatshow-atlantic-city-in-water-boat-show-2026@yachtwyse.com
END:VEVENT
END:VCALENDAR