BEGIN:VCALENDAR
VERSION:2.0
PRODID:-//YachtWyse//Boat Shows//EN
CALSCALE:GREGORIAN
METHOD:PUBLISH
X-WR-CALNAME:BOAT FEST SOUTH 2026 (PORTSMOUTH)
BEGIN:VEVENT
DTSTART:20260425T000000Z
DTEND:20260426T000000Z
SUMMARY:BOAT FEST SOUTH 2026 (PORTSMOUTH)
LOCATION:Lakeside North Harbour + Port Solent Marina\, Portsmouth\, Lakesid
 e North Harbour + Port Solent Marina\, Portsmouth
URL:https://yachtwyse.com/explore/boat-shows/portsmouth/lakeside-north-harb
 our-port-solent-marina/boat-fest-south-2026-portsmouth-2026
UID:boatshow-boat-fest-south-2026-portsmouth-2026@yachtwyse.com
END:VEVENT
END:VCALENDAR