BEGIN:VCALENDAR
VERSION:2.0
PRODID:-//YachtWyse//Boat Shows//EN
CALSCALE:GREGORIAN
METHOD:PUBLISH
X-WR-CALNAME:Boat & Fun Berlin
BEGIN:VEVENT
DTSTART:20261126T000000Z
DTEND:20261129T000000Z
SUMMARY:Boat & Fun Berlin
LOCATION:Berlin Expo Center City\, Messedamm 22\, 14055 Berlin\, Germany\, 
 14055 Berlin\, Germany
URL:https://yachtwyse.com/explore/boat-shows/germany/14055-berlin/boat-fun-
 berlin-2026
UID:boatshow-boat-fun-berlin-2026@yachtwyse.com
END:VEVENT
END:VCALENDAR