BEGIN:VCALENDAR
VERSION:2.0
PRODID:-//YachtWyse//Boat Shows//EN
CALSCALE:GREGORIAN
METHOD:PUBLISH
X-WR-CALNAME:Boat Show Denmark - Marina Frederica
BEGIN:VEVENT
DTSTART:20260501T000000Z
DTEND:20260503T000000Z
SUMMARY:Boat Show Denmark - Marina Frederica
LOCATION:Messe C Vestre Ringvej 101 7000 Fredericia\, Denmark\, Messe C Ves
 tre Ringvej 101 7000 Fredericia\, Denmark
URL:https://yachtwyse.com/explore/boat-shows/denmark/messe-c-vestre-ringvej
 -101-7000-fredericia/boat-show-denmark-marina-frederica-2026
UID:boatshow-boat-show-denmark-marina-frederica-2026@yachtwyse.com
END:VEVENT
END:VCALENDAR