BEGIN:VCALENDAR
VERSION:2.0
PRODID:-//YachtWyse//Boat Shows//EN
CALSCALE:GREGORIAN
METHOD:PUBLISH
X-WR-CALNAME:Boat Show on the Bay
BEGIN:VEVENT
DTSTART:20260327T000000Z
DTEND:20260329T000000Z
SUMMARY:Boat Show on the Bay
LOCATION:USS Alabama Battleship\, Mobile\, AL\, United States
DESCRIPTION:Experience Boat Show on the Bay in Mobile\, Alabama. Explore bo
 ats\, meet marine experts\, enjoy live music\, food trucks\, and family fu
 n on the beautiful Gulf Coast.
URL:https://yachtwyse.com/explore/boat-shows/united-states/mobile/boat-show
 -on-the-bay-2026
UID:boatshow-boat-show-on-the-bay-2026@yachtwyse.com
END:VEVENT
END:VCALENDAR