BEGIN:VCALENDAR
VERSION:2.0
PRODID:-//YachtWyse//Boat Shows//EN
CALSCALE:GREGORIAN
METHOD:PUBLISH
X-WR-CALNAME:boot Düsseldorf
BEGIN:VEVENT
DTSTART:20270123T000000Z
DTEND:20270131T000000Z
SUMMARY:boot Düsseldorf
LOCATION:Das\, for\, Germany
DESCRIPTION:Die boot Düsseldorf ist die führende Wassersportmesse und Boo
 tsmesse weltweit. Zu den Highlights zählen neben Booten und Yachten\, Boo
 tsausrüstung und Yachttechnik auch Tauchausrüstung\, Surf- und Kitezubeh
 ör sowie Kanus und Angelausrüstung. Ein gesonderter Bereich ist dem Urla
 ub und Tourismus rund ums Wasser gewidmet.
URL:https://yachtwyse.com/explore/boat-shows/germany/for/boot-dusseldorf-20
 27
UID:boatshow-boot-dusseldorf-2027@yachtwyse.com
END:VEVENT
END:VCALENDAR