BEGIN:VCALENDAR
VERSION:2.0
PRODID:-//YachtWyse//Boat Shows//EN
CALSCALE:GREGORIAN
METHOD:PUBLISH
X-WR-CALNAME:Boot & Fun Berlin
BEGIN:VEVENT
DTSTART:20261126T000000Z
DTEND:20261129T000000Z
SUMMARY:Boot & Fun Berlin
LOCATION:Düsseldorf\, Germany
DESCRIPTION:www.boot-berlin.de Welcome to the water capital BERLIN! BOOT & 
 FUN Berlin is now part of OutVenture Berlin\, Germany's comprehensive outd
 oor lifestyle exposition that unites watersports\, angling\,...
URL:https://yachtwyse.com/explore/boat-shows/germany/dusseldorf/boot-fun-be
 rlin-2026
UID:boatshow-boot-fun-berlin-2026@yachtwyse.com
END:VEVENT
END:VCALENDAR