BEGIN:VCALENDAR
VERSION:2.0
PRODID:-//YachtWyse//Boat Shows//EN
CALSCALE:GREGORIAN
METHOD:PUBLISH
X-WR-CALNAME:British Motor Yacht Show
BEGIN:VEVENT
DTSTART:20260514T000000Z
DTEND:20260517T000000Z
SUMMARY:British Motor Yacht Show
LOCATION:s Most Prestigious Motor Yachts 14th to 17th May 2026 Swanwick Mar
 ina\, Southampton\, United Kingdom
DESCRIPTION:The British Motor Yacht Show at Swanwick Marina proudly present
 s the world's most prestigious motor yachts for serious buyers.
URL:https://yachtwyse.com/explore/boat-shows/united-kingdom/southampton/bri
 tish-motor-yacht-show-2026
UID:boatshow-british-motor-yacht-show-2026@yachtwyse.com
END:VEVENT
END:VCALENDAR