BEGIN:VCALENDAR
VERSION:2.0
PRODID:-//YachtWyse//Boat Shows//EN
CALSCALE:GREGORIAN
METHOD:PUBLISH
X-WR-CALNAME:Cancun International Boat Show And Marine Expo
BEGIN:VEVENT
DTSTART:20261204T000000Z
DTEND:20261206T000000Z
SUMMARY:Cancun International Boat Show And Marine Expo
LOCATION:Marina Puerto Cancun\, Cancun\, Quintana Roo\, Mexico\, Quintana R
 oo\, Mexico
URL:https://yachtwyse.com/explore/boat-shows/mexico/quintana-roo/cancun-int
 ernational-boat-show-and-marine-expo-2026
UID:boatshow-cancun-international-boat-show-and-marine-expo-2026@yachtwyse.com
END:VEVENT
END:VCALENDAR