BEGIN:VCALENDAR
VERSION:2.0
PRODID:-//YachtWyse//Boat Shows//EN
CALSCALE:GREGORIAN
METHOD:PUBLISH
X-WR-CALNAME:Cannes Yachting Festival
BEGIN:VEVENT
DTSTART:20260908T000000Z
DTEND:20260913T000000Z
SUMMARY:Cannes Yachting Festival
LOCATION:Port Pierre Canto Boulevard de la Croisette\, 06400 Cannes\, Franc
 e\, 06400 Cannes\, France
URL:https://yachtwyse.com/explore/boat-shows/france/06400-cannes/cannes-yac
 hting-festival-2026
UID:boatshow-cannes-yachting-festival-2026@yachtwyse.com
END:VEVENT
END:VCALENDAR