BEGIN:VCALENDAR
VERSION:2.0
PRODID:-//YachtWyse//Boat Shows//EN
CALSCALE:GREGORIAN
METHOD:PUBLISH
X-WR-CALNAME:Chattanooga Boat Show
BEGIN:VEVENT
DTSTART:20260205T000000Z
DTEND:20260208T000000Z
SUMMARY:Chattanooga Boat Show
LOCATION:The Chattanooga Boat Show\, The Chattanooga Boat Show\, tn\, Unite
 d States
DESCRIPTION:FEBRUARY 4th - 7th\,  2027 | Chattanooga Convention Center \n\
 nThe Chattanooga Boat Show  View Schedule    \n\n VIEW THE BOAT BRANDS  \n
 \n SEE THE FLOORPLAN  \n\n VIEW THE BOAT DEALERS     \nCHATTANOOGA CONVENT
 ION CENTER\n2027 BOAT SHOW SCHEDULE\nThur February
URL:https://yachtwyse.com/explore/boat-shows/united-states/the-chattanooga-
 boat-show/chattanooga-boat-show-2026
UID:boatshow-chattanooga-boat-show-2026@yachtwyse.com
END:VEVENT
END:VCALENDAR