BEGIN:VCALENDAR
VERSION:2.0
PRODID:-//YachtWyse//Boat Shows//EN
CALSCALE:GREGORIAN
METHOD:PUBLISH
X-WR-CALNAME:China (Xiamen) International Boat Show
BEGIN:VEVENT
DTSTART:20261106T000000Z
DTEND:20261109T000000Z
SUMMARY:China (Xiamen) International Boat Show
LOCATION:Xiamen\, China
URL:https://yachtwyse.com/explore/boat-shows/china/xiamen/china-xiamen-inte
 rnational-boat-show-2026
UID:boatshow-china-xiamen-international-boat-show-2026@yachtwyse.com
END:VEVENT
END:VCALENDAR