BEGIN:VCALENDAR
VERSION:2.0
PRODID:-//YachtWyse//Boat Shows//EN
CALSCALE:GREGORIAN
METHOD:PUBLISH
X-WR-CALNAME:Cincy Boat Expo
BEGIN:VEVENT
DTSTART:20260207T000000Z
DTEND:20260213T000000Z
SUMMARY:Cincy Boat Expo
LOCATION:Sharonville Convention Center\, the Cincinnati\, United States
URL:https://yachtwyse.com/explore/boat-shows/united-states/the-cincinnati/c
 incy-boat-expo-2026
UID:boatshow-cincy-boat-expo-2026@yachtwyse.com
END:VEVENT
END:VCALENDAR