BEGIN:VCALENDAR
VERSION:2.0
PRODID:-//YachtWyse//Boat Shows//EN
CALSCALE:GREGORIAN
METHOD:PUBLISH
X-WR-CALNAME:CT Spring Boat Show
BEGIN:VEVENT
DTSTART:20260424T000000Z
DTEND:20260426T000000Z
SUMMARY:CT Spring Boat Show
LOCATION:Essex\, CT\, United States
DESCRIPTION:JOIN US FOR THE FIRST IN WATER BOAT SHOW IN NEW ENGLAND IN 2026
  Help raise money for a great cause. Power and sailboats
URL:https://yachtwyse.com/explore/boat-shows/united-states/essex/ct-spring-
 boat-show-2026
UID:boatshow-ct-spring-boat-show-2026@yachtwyse.com
END:VEVENT
END:VCALENDAR