BEGIN:VCALENDAR
VERSION:2.0
PRODID:-//YachtWyse//Boat Shows//EN
CALSCALE:GREGORIAN
METHOD:PUBLISH
X-WR-CALNAME:Daytona Boat Show
BEGIN:VEVENT
DTSTART:20260109T000000Z
DTEND:20260111T000000Z
SUMMARY:Daytona Boat Show
LOCATION:BrandsTicketsLocationContactVisit The Daytona Boat Show\, Daytona\
 , United States
DESCRIPTION:The Daytona Boat Show\, September 18-20\, 2026 at The Daytona B
 each Ocean Center
URL:https://yachtwyse.com/explore/boat-shows/united-states/daytona/daytona-
 boat-show-2026
UID:boatshow-daytona-boat-show-2026@yachtwyse.com
END:VEVENT
END:VCALENDAR