BEGIN:VCALENDAR
VERSION:2.0
PRODID:-//YachtWyse//Boat Shows//EN
CALSCALE:GREGORIAN
METHOD:PUBLISH
X-WR-CALNAME:Discover Boating Norwalk Boat Show
BEGIN:VEVENT
DTSTART:20260924T000000Z
DTEND:20260927T000000Z
SUMMARY:Discover Boating Norwalk Boat Show
LOCATION:USA
URL:https://yachtwyse.com/explore/boat-shows/usa/website/discover-boating-n
 orwalk-boat-show-2026
UID:boatshow-discover-boating-norwalk-boat-show-2026@yachtwyse.com
END:VEVENT
END:VCALENDAR