BEGIN:VCALENDAR
VERSION:2.0
PRODID:-//YachtWyse//Boat Shows//EN
CALSCALE:GREGORIAN
METHOD:PUBLISH
X-WR-CALNAME:Fort Lauderdale Boat Show
BEGIN:VEVENT
DTSTART:20261028T000000Z
DTEND:20261101T000000Z
SUMMARY:Fort Lauderdale Boat Show
LOCATION:Broward County Convention Center\, 1950 Eisenhower Blvd\, Fort Lau
 derdale\, Florida 33316\, USA\, Florida 33316\, USA
URL:https://yachtwyse.com/explore/boat-shows/usa/florida-33316/fort-lauderd
 ale-boat-show-2026
UID:boatshow-fort-lauderdale-boat-show-2026@yachtwyse.com
END:VEVENT
END:VCALENDAR