BEGIN:VCALENDAR
VERSION:2.0
PRODID:-//YachtWyse//Boat Shows//EN
CALSCALE:GREGORIAN
METHOD:PUBLISH
X-WR-CALNAME:Fort Lauderdale International Boat Show
BEGIN:VEVENT
DTSTART:20261028T000000Z
DTEND:20261101T000000Z
SUMMARY:Fort Lauderdale International Boat Show
LOCATION:Fort Lauderdale\, USA
DESCRIPTION:www.flibs.com Fort Lauderdale\, FL - Fort Lauderdale Internatio
 nal Boat Show (FLIBS) stands as the world's largest in-water boat show\, w
 elcoming over 100\,000 visitors annually to the Yachting...
URL:https://yachtwyse.com/explore/boat-shows/usa/fort-lauderdale/fort-laude
 rdale-international-boat-show-2026
UID:boatshow-fort-lauderdale-international-boat-show-2026@yachtwyse.com
END:VEVENT
END:VCALENDAR