BEGIN:VCALENDAR
VERSION:2.0
PRODID:-//YachtWyse//Boat Shows//EN
CALSCALE:GREGORIAN
METHOD:PUBLISH
X-WR-CALNAME:Genoa International Boat Show - Salone Nautico
BEGIN:VEVENT
DTSTART:20261001T000000Z
DTEND:20261006T000000Z
SUMMARY:Genoa International Boat Show - Salone Nautico
LOCATION:Genoa\, Italy
DESCRIPTION:www.salonenautico.com/en/ The Boat Show 2024 The Genoa Internat
 ional Boat Show is an essential for both the international yachting market
  and the sea enthusiasts. Additionally\, it serves as a...
URL:https://yachtwyse.com/explore/boat-shows/italy/genoa/genoa-internationa
 l-boat-show-salone-nautico-2026
UID:boatshow-genoa-international-boat-show-salone-nautico-2026@yachtwyse.com
END:VEVENT
END:VCALENDAR