BEGIN:VCALENDAR
VERSION:2.0
PRODID:-//YachtWyse//Boat Shows//EN
CALSCALE:GREGORIAN
METHOD:PUBLISH
X-WR-CALNAME:Grand Pavois La Rochelle France
BEGIN:VEVENT
DTSTART:20260922T000000Z
DTEND:20260927T000000Z
SUMMARY:Grand Pavois La Rochelle France
LOCATION:Avenue du Lazaret\, 17000 La Rochelle Cedex O1\, France\, 17000 La
  Rochelle Cedex O1\, France
URL:https://yachtwyse.com/explore/boat-shows/france/17000-la-rochelle-cedex
 -o1/grand-pavois-la-rochelle-france-2026
UID:boatshow-grand-pavois-la-rochelle-france-2026@yachtwyse.com
END:VEVENT
END:VCALENDAR