BEGIN:VCALENDAR
VERSION:2.0
PRODID:-//YachtWyse//Boat Shows//EN
CALSCALE:GREGORIAN
METHOD:PUBLISH
X-WR-CALNAME:Hamburg ancora YACHTFESTIVAL
BEGIN:VEVENT
DTSTART:20260508T000000Z
DTEND:20260510T000000Z
SUMMARY:Hamburg ancora YACHTFESTIVAL
LOCATION:Neustadt\, Germany
DESCRIPTION:Mehr Yacht! Mehr Life! Im Mai ist Deutschlands größte Bootsme
 sse am Wasser zu Gast in der 5-Sterne ancora Marina in Neustadt in Holstei
 n. Seien Sie
URL:https://yachtwyse.com/explore/boat-shows/germany/neustadt/hamburg-ancor
 a-yachtfestival-2026
UID:boatshow-hamburg-ancora-yachtfestival-2026@yachtwyse.com
END:VEVENT
END:VCALENDAR