BEGIN:VCALENDAR
VERSION:2.0
PRODID:-//YachtWyse//Boat Shows//EN
CALSCALE:GREGORIAN
METHOD:PUBLISH
X-WR-CALNAME:Hamburg Yachtfestival
BEGIN:VEVENT
DTSTART:20260905T000000Z
DTEND:20260907T000000Z
SUMMARY:Hamburg Yachtfestival
LOCATION:Neustadt\, Germany
DESCRIPTION:Mehr Yacht! Mehr Life! Im Mai ist Deutschlands größte Bootsme
 sse am Wasser zu Gast in der 5-Sterne ancora Marina in Neustadt in Holstei
 n. Seien Sie
URL:https://yachtwyse.com/explore/boat-shows/germany/neustadt/hamburg-yacht
 festival-2026
UID:boatshow-hamburg-yachtfestival-2026@yachtwyse.com
END:VEVENT
END:VCALENDAR