BEGIN:VCALENDAR
VERSION:2.0
PRODID:-//YachtWyse//Boat Shows//EN
CALSCALE:GREGORIAN
METHOD:PUBLISH
X-WR-CALNAME:Helsinki International Boat Show (Vene - Båt)
BEGIN:VEVENT
DTSTART:20270212T000000Z
DTEND:20270221T000000Z
SUMMARY:Helsinki International Boat Show (Vene - Båt)
LOCATION:Helsinki\, Finland
DESCRIPTION:www.venemessut.fi 10 days of boating\, fishing and water sports
  at Vene Båt! The Vene Båt boat show is a traditional meeting place for 
 boating enthusiasts to share experiences\, have fun and shop....
URL:https://yachtwyse.com/explore/boat-shows/finland/helsinki/helsinki-inte
 rnational-boat-show-vene-bat-2027
UID:boatshow-helsinki-international-boat-show-vene-bat-2027@yachtwyse.com
END:VEVENT
END:VCALENDAR