BEGIN:VCALENDAR
VERSION:2.0
PRODID:-//YachtWyse//Boat Shows//EN
CALSCALE:GREGORIAN
METHOD:PUBLISH
X-WR-CALNAME:Hiswa te Water
BEGIN:VEVENT
DTSTART:20260902T000000Z
DTEND:20260906T000000Z
SUMMARY:Hiswa te Water
LOCATION:Netherlands
URL:https://yachtwyse.com/explore/boat-shows/netherlands/bataviahaven/hiswa
 -te-water-2026
UID:boatshow-hiswa-te-water-2026@yachtwyse.com
END:VEVENT
END:VCALENDAR