BEGIN:VCALENDAR
VERSION:2.0
PRODID:-//YachtWyse//Boat Shows//EN
CALSCALE:GREGORIAN
METHOD:PUBLISH
X-WR-CALNAME:Ibex Boat Show
BEGIN:VEVENT
DTSTART:20261006T000000Z
DTEND:20261008T000000Z
SUMMARY:Ibex Boat Show
LOCATION:Tampa Convention Center\, Tampa\, Florida\, USA\, Florida\, USA
URL:https://yachtwyse.com/explore/boat-shows/usa/florida/ibex-boat-show-202
 6
UID:boatshow-ibex-boat-show-2026@yachtwyse.com
END:VEVENT
END:VCALENDAR