BEGIN:VCALENDAR
VERSION:2.0
PRODID:-//YachtWyse//Boat Shows//EN
CALSCALE:GREGORIAN
METHOD:PUBLISH
X-WR-CALNAME:Indianapolis Fall Boat & RV Show
BEGIN:VEVENT
DTSTART:20260919T000000Z
DTEND:20260921T000000Z
SUMMARY:Indianapolis Fall Boat & RV Show
LOCATION:Indiana State Fairgrounds Show Hours Visitor Info The Indianapolis
  Fall Boat\, StreetIndianapolis\, IN\, United States
DESCRIPTION:The Indianapolis Fall Boat & RV Show is a truly unique opportun
 ity for consumers to view\, try and buy from a huge selection of new\, use
 d\, and year-end model boats and RVs at unbeatable savings.
URL:https://yachtwyse.com/explore/boat-shows/united-states/streetindianapol
 is/indianapolis-fall-boat-rv-show-2026
UID:boatshow-indianapolis-fall-boat-rv-show-2026@yachtwyse.com
END:VEVENT
END:VCALENDAR