BEGIN:VCALENDAR
VERSION:2.0
PRODID:-//YachtWyse//Boat Shows//EN
CALSCALE:GREGORIAN
METHOD:PUBLISH
X-WR-CALNAME:Indo Marine Expo And Forum
BEGIN:VEVENT
DTSTART:20261118T000000Z
DTEND:20261121T000000Z
SUMMARY:Indo Marine Expo And Forum
LOCATION:Jiexpo Kemayoran\, Pademangan\, Central Jakarta City\, Jakarta 144
 10\, Indonesia\, Jakarta 14410\, Indonesia
URL:https://yachtwyse.com/explore/boat-shows/indonesia/jakarta-14410/indo-m
 arine-expo-and-forum-2026
UID:boatshow-indo-marine-expo-and-forum-2026@yachtwyse.com
END:VEVENT
END:VCALENDAR