BEGIN:VCALENDAR
VERSION:2.0
PRODID:-//YachtWyse//Boat Shows//EN
CALSCALE:GREGORIAN
METHOD:PUBLISH
X-WR-CALNAME:Int. Bodenseewoche Konstanz
BEGIN:VEVENT
DTSTART:20260529T000000Z
DTEND:20260531T000000Z
SUMMARY:Int. Bodenseewoche Konstanz
LOCATION:nde\, Fundb\, Germany
URL:https://yachtwyse.com/explore/boat-shows/germany/fundb/int-bodenseewoch
 e-konstanz-2026
UID:boatshow-int-bodenseewoche-konstanz-2026@yachtwyse.com
END:VEVENT
END:VCALENDAR