BEGIN:VCALENDAR
VERSION:2.0
PRODID:-//YachtWyse//Boat Shows//EN
CALSCALE:GREGORIAN
METHOD:PUBLISH
X-WR-CALNAME:International Multihull Boat Show
BEGIN:VEVENT
DTSTART:20260422T000000Z
DTEND:20260426T000000Z
SUMMARY:International Multihull Boat Show
LOCATION:Port de la Grande-Motte\, 1 Esp. Jean Baumel\, 34280 La Grande-Mot
 te\, France\, 34280 La Grande-Motte\, France
URL:https://yachtwyse.com/explore/boat-shows/france/34280-la-grande-motte/i
 nternational-multihull-boat-show-2026
UID:boatshow-international-multihull-boat-show-2026@yachtwyse.com
END:VEVENT
END:VCALENDAR