BEGIN:VCALENDAR
VERSION:2.0
PRODID:-//YachtWyse//Boat Shows//EN
CALSCALE:GREGORIAN
METHOD:PUBLISH
X-WR-CALNAME:International Multihull Show of La Grande Motte
BEGIN:VEVENT
DTSTART:20260422T000000Z
DTEND:20260426T000000Z
SUMMARY:International Multihull Show of La Grande Motte
LOCATION:La Grande Motte\, France
URL:https://yachtwyse.com/explore/boat-shows/france/la-grande-motte/interna
 tional-multihull-show-of-la-grande-motte-2026
UID:boatshow-international-multihull-show-of-la-grande-motte-2026@yachtwyse.com
END:VEVENT
END:VCALENDAR