BEGIN:VCALENDAR
VERSION:2.0
PRODID:-//YachtWyse//Boat Shows//EN
CALSCALE:GREGORIAN
METHOD:PUBLISH
X-WR-CALNAME:Jersey Boat Show
BEGIN:VEVENT
DTSTART:20260502T000000Z
DTEND:20260504T000000Z
SUMMARY:Jersey Boat Show
LOCATION:St Helier Marina and Weighbridge Place\, Jersey\, St Helier Marina
  and Weighbridge Place\, Jersey
URL:https://yachtwyse.com/explore/boat-shows/jersey/st-helier-marina-and-we
 ighbridge-place/jersey-boat-show-2026
UID:boatshow-jersey-boat-show-2026@yachtwyse.com
END:VEVENT
END:VCALENDAR