BEGIN:VCALENDAR
VERSION:2.0
PRODID:-//YachtWyse//Boat Shows//EN
CALSCALE:GREGORIAN
METHOD:PUBLISH
X-WR-CALNAME:Keels & Wheels Concours D’Elegance
BEGIN:VEVENT
DTSTART:20260425T000000Z
DTEND:20260426T000000Z
SUMMARY:Keels & Wheels Concours D’Elegance
LOCATION:Keels & Wheels\, 2322 Lakewood Yacht Club Drive\, Seabrook\, Texas
  77586\, USA\, Texas 77586\, USA
URL:https://yachtwyse.com/explore/boat-shows/usa/texas-77586/keels-wheels-c
 oncours-d-elegance-2026
UID:boatshow-keels-wheels-concours-d-elegance-2026@yachtwyse.com
END:VEVENT
END:VCALENDAR