BEGIN:VCALENDAR
VERSION:2.0
PRODID:-//YachtWyse//Boat Shows//EN
CALSCALE:GREGORIAN
METHOD:PUBLISH
X-WR-CALNAME:Klaipėda Boat Show
BEGIN:VEVENT
DTSTART:20260605T000000Z
DTEND:20260607T000000Z
SUMMARY:Klaipėda Boat Show
LOCATION:Klaipėda\, Lithuania
DESCRIPTION:Klaipeda International Pleasure Boat Show is Lithuania's larges
 t on-water boat exposition\, showcasing up to 40 pleasure boats in the his
 toric Castle Harbour at the Cruise Ship Terminal. Entering...
URL:https://yachtwyse.com/explore/boat-shows/lithuania/klaipeda/klaipeda-bo
 at-show-2026
UID:boatshow-klaipeda-boat-show-2026@yachtwyse.com
END:VEVENT
END:VCALENDAR