BEGIN:VCALENDAR
VERSION:2.0
PRODID:-//YachtWyse//Boat Shows//EN
CALSCALE:GREGORIAN
METHOD:PUBLISH
X-WR-CALNAME:La Napoule Boat Show
BEGIN:VEVENT
DTSTART:20260423T000000Z
DTEND:20260426T000000Z
SUMMARY:La Napoule Boat Show
LOCATION:Port La Napoule\, Avenue Henry Clews\, 06210 Mandelieu-la-Napoule\
 , France\, 06210 Mandelieu-la-Napoule\, France
URL:https://yachtwyse.com/explore/boat-shows/france/06210-mandelieu-la-napo
 ule/la-napoule-boat-show-2026
UID:boatshow-la-napoule-boat-show-2026@yachtwyse.com
END:VEVENT
END:VCALENDAR