BEGIN:VCALENDAR
VERSION:2.0
PRODID:-//YachtWyse//Boat Shows//EN
CALSCALE:GREGORIAN
METHOD:PUBLISH
X-WR-CALNAME:Lake Lanier Boat Show
BEGIN:VEVENT
DTSTART:20260424T000000Z
DTEND:20260426T000000Z
SUMMARY:Lake Lanier Boat Show
LOCATION:Margaritaville at Lanier Islands\, ParkwayBuford\, GA\, USA
DESCRIPTION:AT MARGARITAVILLE AT LANIER ISLANDS The Lake Lanier Boat Show b
 rings together top boat brands and trusted local dealers for a relaxed\, f
 amily-friendly experience on Lake Lanier. BUY TICKETS BUY TICKETS plan you
 r visit plan your visit What to Expect Walk the docks and board boats in t
 he waterSide-by-side brand comparisonExclusive show pricingLive music + fo
 od + vendorsFamily-friendly atmosphere (kids welcome) Dates & LocationApri
 l 24-26\, 2026Margaritaville at Lanier Islands7650 Lanier Islands ParkwayB
 uford\, GA 30518 Get Directions Get Directions show hours Friday\, April 2
 4 11am-6pm Saturday\, April 25 10am-6pm Sunday\, April 26 11am-5pm tickets
 Adults - $15Children 10 & under - $82 Years & Under - Free* This ticket wi
 ll only be available in person at the boat show.* Tickets are good for any
  one-day entry for the Spring 2026 boat show.Tickets are per person and ar
 e non-refundable. buy tickets buy tickets 225+BOATS ON DISPLAY 15local dea
 lers 50+BOAT BRANDS Play00:0001:42UnmuteMuteSettingsSpe
URL:https://yachtwyse.com/explore/boat-shows/usa/parkwaybuford/lake-lanier-
 boat-show-2026
UID:boatshow-lake-lanier-boat-show-2026@yachtwyse.com
END:VEVENT
END:VCALENDAR