BEGIN:VCALENDAR
VERSION:2.0
PRODID:-//YachtWyse//Boat Shows//EN
CALSCALE:GREGORIAN
METHOD:PUBLISH
X-WR-CALNAME:Lake Of The Ozarks In-Water Boat Show
BEGIN:VEVENT
DTSTART:20260925T000000Z
DTEND:20260927T000000Z
SUMMARY:Lake Of The Ozarks In-Water Boat Show
LOCATION:Dog Days Bar & Grill 19 MM by Water 1232 Jeffries Road Osage Beach
 \, MO 65065\, Dog Days Bar & Grill 19 MM by Water 1232 Jeffries Road Osage
  Beach\, MO 65065
URL:https://yachtwyse.com/explore/boat-shows/mo-65065/dog-days-bar-grill-19
 -mm-by-water-1232-jeffries-road-osage-beach/lake-of-the-ozarks-in-water-bo
 at-show-2026
UID:boatshow-lake-of-the-ozarks-in-water-boat-show-2026@yachtwyse.com
END:VEVENT
END:VCALENDAR