BEGIN:VCALENDAR
VERSION:2.0
PRODID:-//YachtWyse//Boat Shows//EN
CALSCALE:GREGORIAN
METHOD:PUBLISH
X-WR-CALNAME:Limassol Boat Show
BEGIN:VEVENT
DTSTART:20260521T000000Z
DTEND:20260524T000000Z
SUMMARY:Limassol Boat Show
LOCATION:Limassol Marina St 3601\, Limassol 3014\, Cyprus\, Limassol 3014\,
  Cyprus
URL:https://yachtwyse.com/explore/boat-shows/cyprus/limassol-3014/limassol-
 boat-show-2026
UID:boatshow-limassol-boat-show-2026@yachtwyse.com
END:VEVENT
END:VCALENDAR