BEGIN:VCALENDAR
VERSION:2.0
PRODID:-//YachtWyse//Boat Shows//EN
CALSCALE:GREGORIAN
METHOD:PUBLISH
X-WR-CALNAME:Logan Martin Lake Fest and Boat Show
BEGIN:VEVENT
DTSTART:20260508T000000Z
DTEND:20260510T000000Z
SUMMARY:Logan Martin Lake Fest and Boat Show
LOCATION:2026 lakeside park pell city\, United States
DESCRIPTION:In-water boat show featuring over 90 models. Live music all wee
 kend. Food trucks. Art\, apparel\, and lake lifestyle vendors.  Massive gi
 veaways. Family-friendly.
URL:https://yachtwyse.com/explore/boat-shows/united-states/2026-lakeside-pa
 rk-pell-city/logan-martin-lake-fest-and-boat-show-2026
UID:boatshow-logan-martin-lake-fest-and-boat-show-2026@yachtwyse.com
END:VEVENT
END:VCALENDAR