BEGIN:VCALENDAR
VERSION:2.0
PRODID:-//YachtWyse//Boat Shows//EN
CALSCALE:GREGORIAN
METHOD:PUBLISH
X-WR-CALNAME:Macau International Yacht Show
BEGIN:VEVENT
DTSTART:20261030T000000Z
DTEND:20261101T000000Z
SUMMARY:Macau International Yacht Show
LOCATION:Macau\, China
DESCRIPTION:As the only yacht exhibition in Macau\, the China (Macau) Inter
 national Yacht Import & Export Fair has established itself as a premier ma
 ritime event over 15 successful years. This highly...
URL:https://yachtwyse.com/explore/boat-shows/china/macau/macau-internationa
 l-yacht-show-2026
UID:boatshow-macau-international-yacht-show-2026@yachtwyse.com
END:VEVENT
END:VCALENDAR