BEGIN:VCALENDAR
VERSION:2.0
PRODID:-//YachtWyse//Boat Shows//EN
CALSCALE:GREGORIAN
METHOD:PUBLISH
X-WR-CALNAME:Melbourne Boat Show
BEGIN:VEVENT
DTSTART:20261016T000000Z
DTEND:20261019T000000Z
SUMMARY:Melbourne Boat Show
LOCATION:Docklands\, Victoria 3008\, Australia\, Victoria 3008\, Australia
URL:https://yachtwyse.com/explore/boat-shows/australia/victoria-3008/melbou
 rne-boat-show-2026
UID:boatshow-melbourne-boat-show-2026@yachtwyse.com
END:VEVENT
END:VCALENDAR