BEGIN:VCALENDAR
VERSION:2.0
PRODID:-//YachtWyse//Boat Shows//EN
CALSCALE:GREGORIAN
METHOD:PUBLISH
X-WR-CALNAME:Metro Boat Show
BEGIN:VEVENT
DTSTART:20260917T000000Z
DTEND:20260920T000000Z
SUMMARY:Metro Boat Show
LOCATION:Lake St. Clair Metropark\, 31300 Metro Parkway\, Harrison Charter 
 Township\, Michigan 48045\, USA\, Michigan 48045\, USA
URL:https://yachtwyse.com/explore/boat-shows/usa/michigan-48045/metro-boat-
 show-2026
UID:boatshow-metro-boat-show-2026@yachtwyse.com
END:VEVENT
END:VCALENDAR