BEGIN:VCALENDAR
VERSION:2.0
PRODID:-//YachtWyse//Boat Shows//EN
CALSCALE:GREGORIAN
METHOD:PUBLISH
X-WR-CALNAME:Metstrade Marine Equipment Trade Show
BEGIN:VEVENT
DTSTART:20261117T000000Z
DTEND:20261119T000000Z
SUMMARY:Metstrade Marine Equipment Trade Show
LOCATION:RAI Amsterdam Convention Centre\, Europaplein 24\, 1078 GZ Amsterd
 am\, Netherlands\, 1078 GZ Amsterdam\, Netherlands
URL:https://yachtwyse.com/explore/boat-shows/netherlands/1078-gz-amsterdam/
 metstrade-marine-equipment-trade-show-2026
UID:boatshow-metstrade-marine-equipment-trade-show-2026@yachtwyse.com
END:VEVENT
END:VCALENDAR