BEGIN:VCALENDAR
VERSION:2.0
PRODID:-//YachtWyse//Boat Shows//EN
CALSCALE:GREGORIAN
METHOD:PUBLISH
X-WR-CALNAME:Mid-Atlantic Boat Show
BEGIN:VEVENT
DTSTART:20260205T000000Z
DTEND:20260208T000000Z
SUMMARY:Mid-Atlantic Boat Show
LOCATION:Charlotte Convention Center\, United States
DESCRIPTION:The Mid-Atlantic Boat Show™ returns February 5-8\, 2026\, wit
 h new model boats\, top boating gear\, and family fun!
URL:https://yachtwyse.com/explore/boat-shows/united-states/s-college-st-cha
 rlotte/mid-atlantic-boat-show-2026
UID:boatshow-mid-atlantic-boat-show-2026@yachtwyse.com
END:VEVENT
END:VCALENDAR