BEGIN:VCALENDAR
VERSION:2.0
PRODID:-//YachtWyse//Boat Shows//EN
CALSCALE:GREGORIAN
METHOD:PUBLISH
X-WR-CALNAME:Minneapolis Boat Show
BEGIN:VEVENT
DTSTART:20260122T000000Z
DTEND:20260125T000000Z
SUMMARY:Minneapolis Boat Show
LOCATION:Minneapolis Convention Center\, nd Ave S Minneapolis\, MN\, United
  States
DESCRIPTION:The Discover Boating Minneapolis Boat Show™ returns to the Mi
 nneapolis Convention Center Jan 22-25\, 2026\, with new model boats\, grea
 t deals\, and more!
URL:https://yachtwyse.com/explore/boat-shows/united-states/nd-ave-s-minneap
 olis/minneapolis-boat-show-2026
UID:boatshow-minneapolis-boat-show-2026@yachtwyse.com
END:VEVENT
END:VCALENDAR